BEGIN:VCALENDAR
VERSION:2.0
PRODID:-//Richmond Retired Teachers Association - ECPv6.15.17.1//NONSGML v1.0//EN
CALSCALE:GREGORIAN
METHOD:PUBLISH
X-WR-CALNAME:Richmond Retired Teachers Association
X-ORIGINAL-URL:https://bcrta.ca/richmond
X-WR-CALDESC:Events for Richmond Retired Teachers Association
REFRESH-INTERVAL;VALUE=DURATION:PT1H
X-Robots-Tag:noindex
X-PUBLISHED-TTL:PT1H
BEGIN:VTIMEZONE
TZID:America/Vancouver
BEGIN:DAYLIGHT
TZOFFSETFROM:-0800
TZOFFSETTO:-0700
TZNAME:PDT
DTSTART:20180311T100000
END:DAYLIGHT
BEGIN:STANDARD
TZOFFSETFROM:-0700
TZOFFSETTO:-0800
TZNAME:PST
DTSTART:20181104T090000
END:STANDARD
BEGIN:DAYLIGHT
TZOFFSETFROM:-0800
TZOFFSETTO:-0700
TZNAME:PDT
DTSTART:20190310T100000
END:DAYLIGHT
BEGIN:STANDARD
TZOFFSETFROM:-0700
TZOFFSETTO:-0800
TZNAME:PST
DTSTART:20191103T090000
END:STANDARD
BEGIN:DAYLIGHT
TZOFFSETFROM:-0800
TZOFFSETTO:-0700
TZNAME:PDT
DTSTART:20200308T100000
END:DAYLIGHT
BEGIN:STANDARD
TZOFFSETFROM:-0700
TZOFFSETTO:-0800
TZNAME:PST
DTSTART:20201101T090000
END:STANDARD
BEGIN:DAYLIGHT
TZOFFSETFROM:-0800
TZOFFSETTO:-0700
TZNAME:PDT
DTSTART:20210314T100000
END:DAYLIGHT
BEGIN:STANDARD
TZOFFSETFROM:-0700
TZOFFSETTO:-0800
TZNAME:PST
DTSTART:20211107T090000
END:STANDARD
BEGIN:DAYLIGHT
TZOFFSETFROM:-0800
TZOFFSETTO:-0700
TZNAME:PDT
DTSTART:20220313T100000
END:DAYLIGHT
BEGIN:STANDARD
TZOFFSETFROM:-0700
TZOFFSETTO:-0800
TZNAME:PST
DTSTART:20221106T090000
END:STANDARD
BEGIN:DAYLIGHT
TZOFFSETFROM:-0800
TZOFFSETTO:-0700
TZNAME:PDT
DTSTART:20230312T100000
END:DAYLIGHT
BEGIN:STANDARD
TZOFFSETFROM:-0700
TZOFFSETTO:-0800
TZNAME:PST
DTSTART:20231105T090000
END:STANDARD
BEGIN:DAYLIGHT
TZOFFSETFROM:-0800
TZOFFSETTO:-0700
TZNAME:PDT
DTSTART:20240310T100000
END:DAYLIGHT
BEGIN:STANDARD
TZOFFSETFROM:-0700
TZOFFSETTO:-0800
TZNAME:PST
DTSTART:20241103T090000
END:STANDARD
END:VTIMEZONE
BEGIN:VEVENT
DTSTART;TZID=America/Vancouver:20230920T100000
DTEND;TZID=America/Vancouver:20230920T120000
DTSTAMP:20260421T010808
CREATED:20230726T223758Z
LAST-MODIFIED:20230726T223758Z
UID:991-1695204000-1695211200@bcrta.ca
SUMMARY:Speaker Series - Trip Merchant Presentation
DESCRIPTION:Speaker: Ryan Mikucki \, co-founder of Trip Merchant \nWednesday\, September 20\, 2023 10:00am to 12:00pm. \nRTA Office\, #210 – 7360 Westminster Hwy\, Richmond \nTrip Merchant partners with British Columbia Retired Teachers’ Association (BCRTA) to provide its members with exclusive travel savings and benefits! \nYou can choose from a variety of travel styles including\, Guided Tours\, River and Ocean Cruising\, Long Stay Vacations\, Adventure Travel\, Rail Journeys and more… \nYour dedicated user-friendly BCRTA/Trip Merchant travel website (bcrta.tripmerchant.ca) connects you seamlessly with a specialist based on your specific request. \nAt this upcoming presentation\, aside from being inspired to travel\, you will learn all about Trip Merchant\, and what they provide you as a member of BCRTA. Here’s what will be highlighted in the presentation: \n\nYour Member Benefits and Savings\nTrip Merchant Loyalty Program\nTravel Styles/Various Travel Supplier Options\nTravel Trends\nCurrent Offers\nVarious Group Departures
URL:https://bcrta.ca/richmond/event/speaker-series-trip-merchant-presentation/
LOCATION:Richmond Teachers’ Association Office\, 210-7360 Westminster Highway\, Richmond\, BC\, V6X 1A1\, Canada
CATEGORIES:General Event
END:VEVENT
BEGIN:VEVENT
DTSTART;TZID=America/Vancouver:20230906T113000
DTEND;TZID=America/Vancouver:20230906T140000
DTSTAMP:20260421T010808
CREATED:20230726T222145Z
LAST-MODIFIED:20230726T222145Z
UID:986-1693999800-1694008800@bcrta.ca
SUMMARY:"Back to School Without Us" Lunch
DESCRIPTION:Breaking News! RRTA Luncheon Location Changed! \n“BACK TO SCHOOL WITHOUT US” Luncheon \n(For members\, spouses\, and new retirees.) \nSeptember 6\, 2023 11:30am \nRiverside Banquet Hall \nUnit 135 – 1231 Burdette Street\, Richmond BC V6V 2Z2 \n(Just off River Road\, east of No. 6 Road) \nThe Riverside Banquet Hall is across Burdette Street from the Riverside Ballroom. You can park in the Riverside Ballroom parking lot and walk across the street. For those with limited mobility\, there is a smaller parking lot immediately in front of the Riverside Banquet Hall. \nMENU \nHerb Roasted Chicken                    Penne Pasta with Tomato Sauce \nBaby Potatoes                                  Caesar Salad \nDessert                                              Coffee\, Tea and Soft Drinks \nCost: $40.00 (includes tax and gratuities)\nPlease note that this is with a $10 subsidy from the RRTA \nPlease let Lily Lee know if you are planning to attend. \nPhone:  604-277-9065                   Email:  kwleefamily@shaw.ca \nMake cheques payable to RRTA\, and send to Lily by Friday August 18th \nc/o Lily Lee\, 8411 Ash Street\, Richmond\, B.C.\, V6Y 2S4  \nIt is important that we give the chefs at Riverside sufficient time to order and prepare our delicious meal. Please have your cheque in on time and remember\, refunds are NOT possible for cancellations made after Tuesday August 22nd. \nFor special dietary requirements\, please let Lily know when you send your cheque\, or email her. (Vegan\, gluten free\, or allergies — nuts\, lactose etc.) \nThe luncheon will be followed by the RRTA AGM at approximately 1:15pm. \nThat will be followed by RRTA Trust Fund Foundation AGM  \n 
URL:https://bcrta.ca/richmond/event/back-to-school-without-us-lunch/
LOCATION:Riverside Banquet Halls\, 135 - 1231 Burdette Street\, Richmond\, BC\, V6V 2Z2
CATEGORIES:General Event
END:VEVENT
BEGIN:VEVENT
DTSTART;TZID=America/Vancouver:20220907T113000
DTEND;TZID=America/Vancouver:20220907T140000
DTSTAMP:20260421T010808
CREATED:20220627T174550Z
LAST-MODIFIED:20230726T015435Z
UID:947-1662550200-1662559200@bcrta.ca
SUMMARY:Back to School Lunch
DESCRIPTION:It’s Back!\n“Back to School Without Us” Luncheon\n(For members\, spouses\, and new retirees.)\n(Masks and hand sanitizer recommended) \nDate: Wednesday\, September 7th\, 2022 11:30 AM\nLocation: Mayfair Lakes Golf & Country Club – 5460 Number 7 Road\n(Half a mile north of Westminster Hwy.) \nMenu (Italian Lunch Buffet) \n\nGarlic Bread\nCaesar Salad – croutons and fresh parmesan cheese\nHome Baked Lasagna\nChicken Parmesan\nAssorted Cakes\nFreshly Brewed Coffee & Tea\n\nCost: $30.00 (includes tax\, gratuities and room rental) \nPlease let Munjeet Booton know if you are planning to attend\, at 604 277-0618\, or mbooton53@gmail.com. (Make cheques payable to RRTA\, and send to Munjeet by Wednesday August 24th. Munjeet Booton\, 9911 Glendower Gate\, Richmond\, BC  V7A 1Z5) \nIt is important that we give the chefs at Mayfair Lakes sufficient time to order and prepare our delicious meal. Please have your cheque in on time and remember\, refunds are NOT possible for cancellations made after Wednesday August 24th. \n*** For special dietary requirements\, please contact: Jennifer Kang\, 604 232-2654 *** \nThe RRTA Annual General Meeting will follow the luncheon at approximately 1:15 pm. The RRTA Trust Fund Foundation AGM will immediately follow the RRTA AGM.
URL:https://bcrta.ca/richmond/event/back-to-school-lunch/
LOCATION:Mayfair Lakes Golf & Country Club\, 5460 Number 7 Road\, Richmond\, BC\, V6Y 2S4\, Canada
CATEGORIES:General Event
END:VEVENT
BEGIN:VEVENT
DTSTART;TZID=America/Vancouver:20200313T093000
DTEND;TZID=America/Vancouver:20200313T133000
DTSTAMP:20260421T010808
CREATED:20200227T004114Z
LAST-MODIFIED:20200227T004114Z
UID:797-1584091800-1584106200@bcrta.ca
SUMMARY:Heritage Workbee
DESCRIPTION:Interested in Richmond’s Educational Heritage? \nCome and check us out. \n  \nAll members welcome.
URL:https://bcrta.ca/richmond/event/heritage-workbee-3/
LOCATION:General Currie Elementary School Heritage Building\, 8220 General Currie Road\, Richmond\, British Columbia\, Canada
CATEGORIES:Meeting
END:VEVENT
BEGIN:VEVENT
DTSTART;TZID=America/Vancouver:20200306T093000
DTEND;TZID=America/Vancouver:20200306T133000
DTSTAMP:20260421T010808
CREATED:20200227T003654Z
LAST-MODIFIED:20200227T003654Z
UID:795-1583487000-1583501400@bcrta.ca
SUMMARY:Heritage Workbee
DESCRIPTION:Interested in Richmond’s Educational Heritage? \nCome and check us out. \n  \nAll members welcome.
URL:https://bcrta.ca/richmond/event/heritage-workbee-2/
LOCATION:General Currie Elementary School Heritage Building\, 8220 General Currie Road\, Richmond\, British Columbia\, Canada
END:VEVENT
BEGIN:VEVENT
DTSTART;TZID=America/Vancouver:20200226T100000
DTEND;TZID=America/Vancouver:20200226T113000
DTSTAMP:20260421T010808
CREATED:20191130T005256Z
LAST-MODIFIED:20191130T005900Z
UID:729-1582711200-1582716600@bcrta.ca
SUMMARY:RRTA Directors' Meeting
DESCRIPTION:
URL:https://bcrta.ca/richmond/event/rrta-directors-meeting-4/
LOCATION:Richmond Teachers’ Association Office\, 210-7360 Westminster Highway\, Richmond\, BC\, V6X 1A1\, Canada
CATEGORIES:Meeting
END:VEVENT
BEGIN:VEVENT
DTSTART;TZID=America/Vancouver:20200221T093000
DTEND;TZID=America/Vancouver:20200221T123000
DTSTAMP:20260421T010808
CREATED:20200204T222706Z
LAST-MODIFIED:20200204T222706Z
UID:757-1582277400-1582288200@bcrta.ca
SUMMARY:Heritage Meeting
DESCRIPTION:      All members welcome.
URL:https://bcrta.ca/richmond/event/heritage-meeting-2/
LOCATION:General Currie Elementary School Heritage Building\, 8220 General Currie Road\, Richmond\, British Columbia\, Canada
END:VEVENT
BEGIN:VEVENT
DTSTART;TZID=America/Vancouver:20200207T093000
DTEND;TZID=America/Vancouver:20200207T123000
DTSTAMP:20260421T010808
CREATED:20200204T222214Z
LAST-MODIFIED:20200204T222440Z
UID:753-1581067800-1581078600@bcrta.ca
SUMMARY:Heritage Workbee
DESCRIPTION:Come and join us and explore Richmond’s Educational history.
URL:https://bcrta.ca/richmond/event/heritage-meeting/
LOCATION:General Currie Elementary School Heritage Building\, 8220 General Currie Road\, Richmond\, British Columbia\, Canada
END:VEVENT
BEGIN:VEVENT
DTSTART;TZID=America/Vancouver:20191213T093000
DTEND;TZID=America/Vancouver:20191213T133000
DTSTAMP:20260421T010808
CREATED:20191130T004146Z
LAST-MODIFIED:20191130T004146Z
UID:726-1576229400-1576243800@bcrta.ca
SUMMARY:Heritage Workbee
DESCRIPTION:Visitors welcome!
URL:https://bcrta.ca/richmond/event/heritage-workbee/
LOCATION:General Currie Elementary School Heritage Building\, 8220 General Currie Road\, Richmond\, British Columbia\, Canada
CATEGORIES:Meeting
ATTACH;FMTTYPE=image/jpeg:https://bcrta.ca/richmond/wp-content/uploads/sites/12/2019/02/generalcurrie.jpg
END:VEVENT
BEGIN:VEVENT
DTSTART;TZID=America/Vancouver:20191206T093000
DTEND;TZID=America/Vancouver:20191206T133000
DTSTAMP:20260421T010808
CREATED:20191130T003552Z
LAST-MODIFIED:20191130T004310Z
UID:724-1575624600-1575639000@bcrta.ca
SUMMARY:Heritage Committee Meeting
DESCRIPTION:All members welcome!
URL:https://bcrta.ca/richmond/event/heritage-committee-meeting-2/
LOCATION:General Currie Elementary School Heritage Building\, 8220 General Currie Road\, Richmond\, British Columbia\, Canada
CATEGORIES:Meeting
ATTACH;FMTTYPE=image/jpeg:https://bcrta.ca/richmond/wp-content/uploads/sites/12/2019/02/generalcurrie.jpg
END:VEVENT
BEGIN:VEVENT
DTSTART;TZID=America/Vancouver:20191114T093000
DTEND;TZID=America/Vancouver:20191114T110000
DTSTAMP:20260421T010808
CREATED:20190913T214007Z
LAST-MODIFIED:20190913T214007Z
UID:587-1573723800-1573729200@bcrta.ca
SUMMARY:RRTA Directors' Meeting
DESCRIPTION:
URL:https://bcrta.ca/richmond/event/rrta-directors-meeting-2/
LOCATION:RTA Office – Conference Room\, 7360 Westminster Hwy\, Richmond\, BC\, V6X 1A1\, Canada
CATEGORIES:Meeting
END:VEVENT
BEGIN:VEVENT
DTSTART;TZID=America/Vancouver:20191008T093000
DTEND;TZID=America/Vancouver:20191008T110000
DTSTAMP:20260421T010808
CREATED:20190913T212915Z
LAST-MODIFIED:20190913T214106Z
UID:581-1570527000-1570532400@bcrta.ca
SUMMARY:RRTA Directors' Meeting
DESCRIPTION:
URL:https://bcrta.ca/richmond/event/rrta-directors-meeting/
LOCATION:RTA Office – Conference Room\, 7360 Westminster Hwy\, Richmond\, BC\, V6X 1A1\, Canada
END:VEVENT
BEGIN:VEVENT
DTSTART;TZID=America/Vancouver:20190508T100000
DTEND;TZID=America/Vancouver:20190508T113000
DTSTAMP:20260421T010808
CREATED:20190327T231315Z
LAST-MODIFIED:20191007T153704Z
UID:369-1557309600-1557315000@bcrta.ca
SUMMARY:RRTA Directors' Meeting
DESCRIPTION:Directors Meeting
URL:https://bcrta.ca/richmond/event/rrta-directors-meeting-3/
LOCATION:RTA Office – Conference Room\, 7360 Westminster Hwy\, Richmond\, BC\, V6X 1A1\, Canada
CATEGORIES:Meeting
ATTACH;FMTTYPE=image/jpeg:https://bcrta.ca/richmond/wp-content/uploads/sites/12/2019/02/teamwork-e1575075078354.jpg
END:VEVENT
END:VCALENDAR